BEGIN:VCALENDAR
VERSION:2.0
PRODID:-//Over Parish Council//Meeting Calendar//EN
CALSCALE:GREGORIAN
METHOD:PUBLISH
BEGIN:VEVENT
UID:70458-20250408@over-pc.gov.uk
DTSTAMP:20260422T103929Z
DTSTART;VALUE=DATE:20250408
DTEND;VALUE=DATE:20250409
SUMMARY:Council Meeting &#8211\\; 8th April 2025
DESCRIPTION:Full Council Meeting\nView details: https://over-pc.gov.uk/meetings/council-meeting-8th-april-2025/
URL:https://over-pc.gov.uk/meetings/council-meeting-8th-april-2025/
END:VEVENT
END:VCALENDAR
