BEGIN:VCALENDAR
VERSION:2.0
PRODID:-//Over Parish Council//Meeting Calendar//EN
CALSCALE:GREGORIAN
METHOD:PUBLISH
BEGIN:VEVENT
UID:70461-20250311@over-pc.gov.uk
DTSTAMP:20260422T103904Z
DTSTART;VALUE=DATE:20250311
DTEND;VALUE=DATE:20250312
SUMMARY:Council Meeting &#8211\\; 11th March 2025
DESCRIPTION:Full Council Meeting\nView details: https://over-pc.gov.uk/meetings/council-meeting-11th-march-2025/
URL:https://over-pc.gov.uk/meetings/council-meeting-11th-march-2025/
END:VEVENT
END:VCALENDAR
