BEGIN:VCALENDAR
VERSION:2.0
PRODID:-//Over Parish Council//Meeting Calendar//EN
CALSCALE:GREGORIAN
METHOD:PUBLISH
BEGIN:VEVENT
UID:70463-20250513@over-pc.gov.uk
DTSTAMP:20260422T084854Z
DTSTART;VALUE=DATE:20250513
DTEND;VALUE=DATE:20250514
SUMMARY:Annual Parish Meeting &#8211\\; 13th May 2025
DESCRIPTION:Annual Parish Meeting\nView details: https://over-pc.gov.uk/meetings/annual-parish-meeting-13th-may-2025/
URL:https://over-pc.gov.uk/meetings/annual-parish-meeting-13th-may-2025/
END:VEVENT
END:VCALENDAR
