BEGIN:VCALENDAR
VERSION:2.0
PRODID:-//Over Parish Council//Meeting Calendar//EN
CALSCALE:GREGORIAN
METHOD:PUBLISH
BEGIN:VEVENT
UID:70510-20241008@over-pc.gov.uk
DTSTAMP:20260422T121140Z
DTSTART;VALUE=DATE:20241008
DTEND;VALUE=DATE:20241009
SUMMARY:Council Meeting
DESCRIPTION:Full Council Meeting\nView details: https://over-pc.gov.uk/meetings/meeting-name-here/
URL:https://over-pc.gov.uk/meetings/meeting-name-here/
END:VEVENT
END:VCALENDAR
