BEGIN:VCALENDAR
VERSION:2.0
PRODID:-//Over Parish Council//Meeting Calendar//EN
CALSCALE:GREGORIAN
METHOD:PUBLISH
BEGIN:VEVENT
UID:70525-20240409@over-pc.gov.uk
DTSTAMP:20260422T140637Z
DTSTART;VALUE=DATE:20240409
DTEND;VALUE=DATE:20240410
SUMMARY:Council Meeting
DESCRIPTION:Full Council Meeting\nView details: https://over-pc.gov.uk/meetings/council-meeting-8/
URL:https://over-pc.gov.uk/meetings/council-meeting-8/
END:VEVENT
END:VCALENDAR
