BEGIN:VCALENDAR
VERSION:2.0
PRODID:-//Over Parish Council//Meeting Calendar//EN
CALSCALE:GREGORIAN
METHOD:PUBLISH
BEGIN:VEVENT
UID:70528-20240312@over-pc.gov.uk
DTSTAMP:20260422T140652Z
DTSTART;VALUE=DATE:20240312
DTEND;VALUE=DATE:20240313
SUMMARY:Council Meeting
DESCRIPTION:Full Council Meeting\nView details: https://over-pc.gov.uk/meetings/council-meeting-9/
URL:https://over-pc.gov.uk/meetings/council-meeting-9/
END:VEVENT
END:VCALENDAR
