BEGIN:VCALENDAR
VERSION:2.0
PRODID:-//Over Parish Council//Meeting Calendar//EN
CALSCALE:GREGORIAN
METHOD:PUBLISH
BEGIN:VEVENT
UID:70531-20240213@over-pc.gov.uk
DTSTAMP:20260422T140818Z
DTSTART;VALUE=DATE:20240213
DTEND;VALUE=DATE:20240214
SUMMARY:Council Meeting
DESCRIPTION:Full Council Meeting\nView details: https://over-pc.gov.uk/meetings/council-meeting-10/
URL:https://over-pc.gov.uk/meetings/council-meeting-10/
END:VEVENT
END:VCALENDAR
