BEGIN:VCALENDAR
VERSION:2.0
PRODID:-//Over Parish Council//Meeting Calendar//EN
CALSCALE:GREGORIAN
METHOD:PUBLISH
BEGIN:VEVENT
UID:70537-20231212@over-pc.gov.uk
DTSTAMP:20260422T194643Z
DTSTART;VALUE=DATE:20231212
DTEND;VALUE=DATE:20231213
SUMMARY:Council Meeting
DESCRIPTION:Full Council Meeting\nView details: https://over-pc.gov.uk/meetings/council-meeting-12/
URL:https://over-pc.gov.uk/meetings/council-meeting-12/
END:VEVENT
END:VCALENDAR
