BEGIN:VCALENDAR
VERSION:2.0
PRODID:-//Over Parish Council//Meeting Calendar//EN
CALSCALE:GREGORIAN
METHOD:PUBLISH
BEGIN:VEVENT
UID:70540-20231114@over-pc.gov.uk
DTSTAMP:20260422T155555Z
DTSTART;VALUE=DATE:20231114
DTEND;VALUE=DATE:20231115
SUMMARY:Council Meeting
DESCRIPTION:Full Council Meeting\nView details: https://over-pc.gov.uk/meetings/council-meeting-13/
URL:https://over-pc.gov.uk/meetings/council-meeting-13/
END:VEVENT
END:VCALENDAR
