BEGIN:VCALENDAR
VERSION:2.0
PRODID:-//Over Parish Council//Meeting Calendar//EN
CALSCALE:GREGORIAN
METHOD:PUBLISH
BEGIN:VEVENT
UID:70543-20231010@over-pc.gov.uk
DTSTAMP:20260422T155620Z
DTSTART;VALUE=DATE:20231010
DTEND;VALUE=DATE:20231011
SUMMARY:Council Meeting
DESCRIPTION:Full Council Meeting\nView details: https://over-pc.gov.uk/meetings/council-meeting-14/
URL:https://over-pc.gov.uk/meetings/council-meeting-14/
END:VEVENT
END:VCALENDAR
