BEGIN:VCALENDAR
VERSION:2.0
PRODID:-//Over Parish Council//Meeting Calendar//EN
CALSCALE:GREGORIAN
METHOD:PUBLISH
BEGIN:VEVENT
UID:70558-20230411@over-pc.gov.uk
DTSTAMP:20260422T173619Z
DTSTART;VALUE=DATE:20230411
DTEND;VALUE=DATE:20230412
SUMMARY:Council Meeting
DESCRIPTION:Full Council Meeting\nView details: https://over-pc.gov.uk/meetings/council-meeting-18/
URL:https://over-pc.gov.uk/meetings/council-meeting-18/
END:VEVENT
END:VCALENDAR
