BEGIN:VCALENDAR
VERSION:2.0
PRODID:-//Over Parish Council//Meeting Calendar//EN
CALSCALE:GREGORIAN
METHOD:PUBLISH
BEGIN:VEVENT
UID:70576-20210112@over-pc.gov.uk
DTSTAMP:20260423T002654Z
DTSTART;VALUE=DATE:20210112
DTEND;VALUE=DATE:20210113
SUMMARY:January 2021
DESCRIPTION:Full Council Meeting\nView details: https://over-pc.gov.uk/meetings/january-2021/
URL:https://over-pc.gov.uk/meetings/january-2021/
END:VEVENT
END:VCALENDAR
