BEGIN:VCALENDAR
VERSION:2.0
PRODID:-//Over Parish Council//Meeting Calendar//EN
CALSCALE:GREGORIAN
METHOD:PUBLISH
BEGIN:VEVENT
UID:70579-20210209@over-pc.gov.uk
DTSTAMP:20260422T224332Z
DTSTART;VALUE=DATE:20210209
DTEND;VALUE=DATE:20210210
SUMMARY:February 2021
DESCRIPTION:Full Council Meeting\nView details: https://over-pc.gov.uk/meetings/february-2021/
URL:https://over-pc.gov.uk/meetings/february-2021/
END:VEVENT
END:VCALENDAR
