BEGIN:VCALENDAR
VERSION:2.0
PRODID:-//Over Parish Council//Meeting Calendar//EN
CALSCALE:GREGORIAN
METHOD:PUBLISH
BEGIN:VEVENT
UID:70582-20210309@over-pc.gov.uk
DTSTAMP:20260422T224407Z
DTSTART;VALUE=DATE:20210309
DTEND;VALUE=DATE:20210310
SUMMARY:March 2021
DESCRIPTION:Full Council Meeting\nView details: https://over-pc.gov.uk/meetings/march-2021/
URL:https://over-pc.gov.uk/meetings/march-2021/
END:VEVENT
END:VCALENDAR
