BEGIN:VCALENDAR
VERSION:2.0
PRODID:-//Over Parish Council//Meeting Calendar//EN
CALSCALE:GREGORIAN
METHOD:PUBLISH
BEGIN:VEVENT
UID:70585-20210413@over-pc.gov.uk
DTSTAMP:20260422T224414Z
DTSTART;VALUE=DATE:20210413
DTEND;VALUE=DATE:20210414
SUMMARY:April 2021
DESCRIPTION:Full Council Meeting\nView details: https://over-pc.gov.uk/meetings/april-2021/
URL:https://over-pc.gov.uk/meetings/april-2021/
END:VEVENT
END:VCALENDAR
