BEGIN:VCALENDAR
VERSION:2.0
PRODID:-//Over Parish Council//Meeting Calendar//EN
CALSCALE:GREGORIAN
METHOD:PUBLISH
BEGIN:VEVENT
UID:70592-20210608@over-pc.gov.uk
DTSTAMP:20260422T210153Z
DTSTART;VALUE=DATE:20210608
DTEND;VALUE=DATE:20210609
SUMMARY:June 2021
DESCRIPTION:Full Council Meeting\nView details: https://over-pc.gov.uk/meetings/june-2021/
URL:https://over-pc.gov.uk/meetings/june-2021/
END:VEVENT
END:VCALENDAR
