BEGIN:VCALENDAR
VERSION:2.0
PRODID:-//Over Parish Council//Meeting Calendar//EN
CALSCALE:GREGORIAN
METHOD:PUBLISH
BEGIN:VEVENT
UID:70598-20210810@over-pc.gov.uk
DTSTAMP:20260422T210224Z
DTSTART;VALUE=DATE:20210810
DTEND;VALUE=DATE:20210811
SUMMARY:August 2021
DESCRIPTION:Full Council Meeting\nView details: https://over-pc.gov.uk/meetings/august-2021/
URL:https://over-pc.gov.uk/meetings/august-2021/
END:VEVENT
END:VCALENDAR
