BEGIN:VCALENDAR
VERSION:2.0
PRODID:-//Over Parish Council//Meeting Calendar//EN
CALSCALE:GREGORIAN
METHOD:PUBLISH
BEGIN:VEVENT
UID:70601-20210914@over-pc.gov.uk
DTSTAMP:20260422T210153Z
DTSTART;VALUE=DATE:20210914
DTEND;VALUE=DATE:20210915
SUMMARY:September 2021
DESCRIPTION:Full Council Meeting\nView details: https://over-pc.gov.uk/meetings/september-2021/
URL:https://over-pc.gov.uk/meetings/september-2021/
END:VEVENT
END:VCALENDAR
