BEGIN:VCALENDAR
VERSION:2.0
PRODID:-//Over Parish Council//Meeting Calendar//EN
CALSCALE:GREGORIAN
METHOD:PUBLISH
BEGIN:VEVENT
UID:70610-20211109@over-pc.gov.uk
DTSTAMP:20260422T191408Z
DTSTART;VALUE=DATE:20211109
DTEND;VALUE=DATE:20211110
SUMMARY:November 2021
DESCRIPTION:Full Council Meeting\nView details: https://over-pc.gov.uk/meetings/november-2021/
URL:https://over-pc.gov.uk/meetings/november-2021/
END:VEVENT
END:VCALENDAR
