BEGIN:VCALENDAR
VERSION:2.0
PRODID:-//Over Parish Council//Meeting Calendar//EN
CALSCALE:GREGORIAN
METHOD:PUBLISH
BEGIN:VEVENT
UID:70613-20211214@over-pc.gov.uk
DTSTAMP:20260422T190202Z
DTSTART;VALUE=DATE:20211214
DTEND;VALUE=DATE:20211215
SUMMARY:December 2021
DESCRIPTION:Full Council Meeting\nView details: https://over-pc.gov.uk/meetings/december-2021/
URL:https://over-pc.gov.uk/meetings/december-2021/
END:VEVENT
END:VCALENDAR
