BEGIN:VCALENDAR
VERSION:2.0
PRODID:-//Over Parish Council//Meeting Calendar//EN
CALSCALE:GREGORIAN
METHOD:PUBLISH
BEGIN:VEVENT
UID:70616-20200114@over-pc.gov.uk
DTSTAMP:20260422T210224Z
DTSTART;VALUE=DATE:20200114
DTEND;VALUE=DATE:20200115
SUMMARY:January 2020
DESCRIPTION:Full Council Meeting\nView details: https://over-pc.gov.uk/meetings/january-2020/
URL:https://over-pc.gov.uk/meetings/january-2020/
END:VEVENT
END:VCALENDAR
