BEGIN:VCALENDAR
VERSION:2.0
PRODID:-//Over Parish Council//Meeting Calendar//EN
CALSCALE:GREGORIAN
METHOD:PUBLISH
BEGIN:VEVENT
UID:70626-20200414@over-pc.gov.uk
DTSTAMP:20260422T224414Z
DTSTART;VALUE=DATE:20200414
DTEND;VALUE=DATE:20200415
SUMMARY:April 2020
DESCRIPTION:Full Council Meeting\nView details: https://over-pc.gov.uk/meetings/april-2020/
URL:https://over-pc.gov.uk/meetings/april-2020/
END:VEVENT
END:VCALENDAR
