BEGIN:VCALENDAR
VERSION:2.0
PRODID:-//Over Parish Council//Meeting Calendar//EN
CALSCALE:GREGORIAN
METHOD:PUBLISH
BEGIN:VEVENT
UID:70629-20200512@over-pc.gov.uk
DTSTAMP:20260422T224310Z
DTSTART;VALUE=DATE:20200512
DTEND;VALUE=DATE:20200513
SUMMARY:May 2020
DESCRIPTION:Full Council Meeting\nView details: https://over-pc.gov.uk/meetings/may-2020/
URL:https://over-pc.gov.uk/meetings/may-2020/
END:VEVENT
END:VCALENDAR
