BEGIN:VCALENDAR
VERSION:2.0
PRODID:-//Over Parish Council//Meeting Calendar//EN
CALSCALE:GREGORIAN
METHOD:PUBLISH
BEGIN:VEVENT
UID:70632-20200609@over-pc.gov.uk
DTSTAMP:20260423T001839Z
DTSTART;VALUE=DATE:20200609
DTEND;VALUE=DATE:20200610
SUMMARY:June 2020
DESCRIPTION:Full Council Meeting\nView details: https://over-pc.gov.uk/meetings/june-2020/
URL:https://over-pc.gov.uk/meetings/june-2020/
END:VEVENT
END:VCALENDAR
