BEGIN:VCALENDAR
VERSION:2.0
PRODID:-//Over Parish Council//Meeting Calendar//EN
CALSCALE:GREGORIAN
METHOD:PUBLISH
BEGIN:VEVENT
UID:70638-20200811@over-pc.gov.uk
DTSTAMP:20260423T002355Z
DTSTART;VALUE=DATE:20200811
DTEND;VALUE=DATE:20200812
SUMMARY:August 2020
DESCRIPTION:Full Council Meeting\nView details: https://over-pc.gov.uk/meetings/august-2020/
URL:https://over-pc.gov.uk/meetings/august-2020/
END:VEVENT
END:VCALENDAR
