BEGIN:VCALENDAR
VERSION:2.0
PRODID:-//Over Parish Council//Meeting Calendar//EN
CALSCALE:GREGORIAN
METHOD:PUBLISH
BEGIN:VEVENT
UID:70641-20200908@over-pc.gov.uk
DTSTAMP:20260423T001839Z
DTSTART;VALUE=DATE:20200908
DTEND;VALUE=DATE:20200909
SUMMARY:September 2020
DESCRIPTION:Full Council Meeting\nView details: https://over-pc.gov.uk/meetings/september-2020/
URL:https://over-pc.gov.uk/meetings/september-2020/
END:VEVENT
END:VCALENDAR
