BEGIN:VCALENDAR
VERSION:2.0
PRODID:-//Over Parish Council//Meeting Calendar//EN
CALSCALE:GREGORIAN
METHOD:PUBLISH
BEGIN:VEVENT
UID:70648-20201110@over-pc.gov.uk
DTSTAMP:20260423T002824Z
DTSTART;VALUE=DATE:20201110
DTEND;VALUE=DATE:20201111
SUMMARY:November 2020
DESCRIPTION:Full Council Meeting\nView details: https://over-pc.gov.uk/meetings/november-2020/
URL:https://over-pc.gov.uk/meetings/november-2020/
END:VEVENT
END:VCALENDAR
