BEGIN:VCALENDAR
VERSION:2.0
PRODID:-//Over Parish Council//Meeting Calendar//EN
CALSCALE:GREGORIAN
METHOD:PUBLISH
BEGIN:VEVENT
UID:70654-20190108@over-pc.gov.uk
DTSTAMP:20260422T173438Z
DTSTART;VALUE=DATE:20190108
DTEND;VALUE=DATE:20190109
SUMMARY:January 2019
DESCRIPTION:Full Council Meeting\nView details: https://over-pc.gov.uk/meetings/january-2019/
URL:https://over-pc.gov.uk/meetings/january-2019/
END:VEVENT
END:VCALENDAR
