BEGIN:VCALENDAR
VERSION:2.0
PRODID:-//Over Parish Council//Meeting Calendar//EN
CALSCALE:GREGORIAN
METHOD:PUBLISH
BEGIN:VEVENT
UID:70657-20190212@over-pc.gov.uk
DTSTAMP:20260422T173310Z
DTSTART;VALUE=DATE:20190212
DTEND;VALUE=DATE:20190213
SUMMARY:February 2019
DESCRIPTION:Full Council Meeting\nView details: https://over-pc.gov.uk/meetings/february-2019/
URL:https://over-pc.gov.uk/meetings/february-2019/
END:VEVENT
END:VCALENDAR
