BEGIN:VCALENDAR
VERSION:2.0
PRODID:-//Over Parish Council//Meeting Calendar//EN
CALSCALE:GREGORIAN
METHOD:PUBLISH
BEGIN:VEVENT
UID:70660-20190312@over-pc.gov.uk
DTSTAMP:20260422T173310Z
DTSTART;VALUE=DATE:20190312
DTEND;VALUE=DATE:20190313
SUMMARY:March 2019
DESCRIPTION:Full Council Meeting\nView details: https://over-pc.gov.uk/meetings/march-2019/
URL:https://over-pc.gov.uk/meetings/march-2019/
END:VEVENT
END:VCALENDAR
