BEGIN:VCALENDAR
VERSION:2.0
PRODID:-//Over Parish Council//Meeting Calendar//EN
CALSCALE:GREGORIAN
METHOD:PUBLISH
BEGIN:VEVENT
UID:70663-20190409@over-pc.gov.uk
DTSTAMP:20260422T173237Z
DTSTART;VALUE=DATE:20190409
DTEND;VALUE=DATE:20190410
SUMMARY:April 2019
DESCRIPTION:Full Council Meeting\nView details: https://over-pc.gov.uk/meetings/april-2019/
URL:https://over-pc.gov.uk/meetings/april-2019/
END:VEVENT
END:VCALENDAR
