BEGIN:VCALENDAR
VERSION:2.0
PRODID:-//Over Parish Council//Meeting Calendar//EN
CALSCALE:GREGORIAN
METHOD:PUBLISH
BEGIN:VEVENT
UID:70666-20190514@over-pc.gov.uk
DTSTAMP:20260422T191155Z
DTSTART;VALUE=DATE:20190514
DTEND;VALUE=DATE:20190515
SUMMARY:May 2019
DESCRIPTION:Full Council Meeting\nView details: https://over-pc.gov.uk/meetings/may-2019/
URL:https://over-pc.gov.uk/meetings/may-2019/
END:VEVENT
END:VCALENDAR
