BEGIN:VCALENDAR
VERSION:2.0
PRODID:-//Over Parish Council//Meeting Calendar//EN
CALSCALE:GREGORIAN
METHOD:PUBLISH
BEGIN:VEVENT
UID:70669-20190611@over-pc.gov.uk
DTSTAMP:20260422T191707Z
DTSTART;VALUE=DATE:20190611
DTEND;VALUE=DATE:20190612
SUMMARY:June 2019
DESCRIPTION:Full Council Meeting\nView details: https://over-pc.gov.uk/meetings/june-2019/
URL:https://over-pc.gov.uk/meetings/june-2019/
END:VEVENT
END:VCALENDAR
