BEGIN:VCALENDAR
VERSION:2.0
PRODID:-//Over Parish Council//Meeting Calendar//EN
CALSCALE:GREGORIAN
METHOD:PUBLISH
BEGIN:VEVENT
UID:70673-20190709@over-pc.gov.uk
DTSTAMP:20260422T191318Z
DTSTART;VALUE=DATE:20190709
DTEND;VALUE=DATE:20190710
SUMMARY:July 2019
DESCRIPTION:Full Council Meeting\nView details: https://over-pc.gov.uk/meetings/july-2019/
URL:https://over-pc.gov.uk/meetings/july-2019/
END:VEVENT
END:VCALENDAR
