BEGIN:VCALENDAR
VERSION:2.0
PRODID:-//Over Parish Council//Meeting Calendar//EN
CALSCALE:GREGORIAN
METHOD:PUBLISH
BEGIN:VEVENT
UID:70679-20191008@over-pc.gov.uk
DTSTAMP:20260422T204037Z
DTSTART;VALUE=DATE:20191008
DTEND;VALUE=DATE:20191009
SUMMARY:October 2019
DESCRIPTION:Full Council Meeting\nView details: https://over-pc.gov.uk/meetings/october-2019/
URL:https://over-pc.gov.uk/meetings/october-2019/
END:VEVENT
END:VCALENDAR
