BEGIN:VCALENDAR
VERSION:2.0
PRODID:-//Over Parish Council//Meeting Calendar//EN
CALSCALE:GREGORIAN
METHOD:PUBLISH
BEGIN:VEVENT
UID:70682-20191112@over-pc.gov.uk
DTSTAMP:20260422T210153Z
DTSTART;VALUE=DATE:20191112
DTEND;VALUE=DATE:20191113
SUMMARY:November 2019
DESCRIPTION:Full Council Meeting\nView details: https://over-pc.gov.uk/meetings/november-2019/
URL:https://over-pc.gov.uk/meetings/november-2019/
END:VEVENT
END:VCALENDAR
