BEGIN:VCALENDAR
VERSION:2.0
PRODID:-//Over Parish Council//Meeting Calendar//EN
CALSCALE:GREGORIAN
METHOD:PUBLISH
BEGIN:VEVENT
UID:70685-20191210@over-pc.gov.uk
DTSTAMP:20260422T210209Z
DTSTART;VALUE=DATE:20191210
DTEND;VALUE=DATE:20191211
SUMMARY:December 2019
DESCRIPTION:Full Council Meeting\nView details: https://over-pc.gov.uk/meetings/december-2019/
URL:https://over-pc.gov.uk/meetings/december-2019/
END:VEVENT
END:VCALENDAR
