BEGIN:VCALENDAR
VERSION:2.0
PRODID:-//Over Parish Council//Meeting Calendar//EN
CALSCALE:GREGORIAN
METHOD:PUBLISH
BEGIN:VEVENT
UID:70691-20180109@over-pc.gov.uk
DTSTAMP:20260422T121332Z
DTSTART;VALUE=DATE:20180109
DTEND;VALUE=DATE:20180110
SUMMARY:January 2018
DESCRIPTION:Full Council Meeting\nView details: https://over-pc.gov.uk/meetings/january-2018/
URL:https://over-pc.gov.uk/meetings/january-2018/
END:VEVENT
END:VCALENDAR
