BEGIN:VCALENDAR
VERSION:2.0
PRODID:-//Over Parish Council//Meeting Calendar//EN
CALSCALE:GREGORIAN
METHOD:PUBLISH
BEGIN:VEVENT
UID:70694-20180213@over-pc.gov.uk
DTSTAMP:20260422T135304Z
DTSTART;VALUE=DATE:20180213
DTEND;VALUE=DATE:20180214
SUMMARY:February Meeting
DESCRIPTION:Full Council Meeting\nView details: https://over-pc.gov.uk/meetings/february-meeting/
URL:https://over-pc.gov.uk/meetings/february-meeting/
END:VEVENT
END:VCALENDAR
