BEGIN:VCALENDAR
VERSION:2.0
PRODID:-//Over Parish Council//Meeting Calendar//EN
CALSCALE:GREGORIAN
METHOD:PUBLISH
BEGIN:VEVENT
UID:70700-20180410@over-pc.gov.uk
DTSTAMP:20260422T140840Z
DTSTART;VALUE=DATE:20180410
DTEND;VALUE=DATE:20180411
SUMMARY:April Meeting
DESCRIPTION:Full Council Meeting\nView details: https://over-pc.gov.uk/meetings/april-meeting/
URL:https://over-pc.gov.uk/meetings/april-meeting/
END:VEVENT
END:VCALENDAR
