BEGIN:VCALENDAR
VERSION:2.0
PRODID:-//Over Parish Council//Meeting Calendar//EN
CALSCALE:GREGORIAN
METHOD:PUBLISH
BEGIN:VEVENT
UID:70703-20180508@over-pc.gov.uk
DTSTAMP:20260422T140914Z
DTSTART;VALUE=DATE:20180508
DTEND;VALUE=DATE:20180509
SUMMARY:May Meeting
DESCRIPTION:Full Council Meeting\nView details: https://over-pc.gov.uk/meetings/may-meeting/
URL:https://over-pc.gov.uk/meetings/may-meeting/
END:VEVENT
END:VCALENDAR
