BEGIN:VCALENDAR
VERSION:2.0
PRODID:-//Over Parish Council//Meeting Calendar//EN
CALSCALE:GREGORIAN
METHOD:PUBLISH
BEGIN:VEVENT
UID:70709-20180612@over-pc.gov.uk
DTSTAMP:20260422T155620Z
DTSTART;VALUE=DATE:20180612
DTEND;VALUE=DATE:20180613
SUMMARY:June Meeting
DESCRIPTION:Full Council Meeting\nView details: https://over-pc.gov.uk/meetings/june-meeting/
URL:https://over-pc.gov.uk/meetings/june-meeting/
END:VEVENT
END:VCALENDAR
