BEGIN:VCALENDAR
VERSION:2.0
PRODID:-//Over Parish Council//Meeting Calendar//EN
CALSCALE:GREGORIAN
METHOD:PUBLISH
BEGIN:VEVENT
UID:70712-20180710@over-pc.gov.uk
DTSTAMP:20260422T161634Z
DTSTART;VALUE=DATE:20180710
DTEND;VALUE=DATE:20180711
SUMMARY:July Meeting
DESCRIPTION:Full Council Meeting\nView details: https://over-pc.gov.uk/meetings/july-meeting/
URL:https://over-pc.gov.uk/meetings/july-meeting/
END:VEVENT
END:VCALENDAR
