BEGIN:VCALENDAR
VERSION:2.0
PRODID:-//Over Parish Council//Meeting Calendar//EN
CALSCALE:GREGORIAN
METHOD:PUBLISH
BEGIN:VEVENT
UID:70718-20181009@over-pc.gov.uk
DTSTAMP:20260422T155651Z
DTSTART;VALUE=DATE:20181009
DTEND;VALUE=DATE:20181010
SUMMARY:October Meeting
DESCRIPTION:Full Council Meeting\nView details: https://over-pc.gov.uk/meetings/october-meeting/
URL:https://over-pc.gov.uk/meetings/october-meeting/
END:VEVENT
END:VCALENDAR
