BEGIN:VCALENDAR
VERSION:2.0
PRODID:-//Over Parish Council//Meeting Calendar//EN
CALSCALE:GREGORIAN
METHOD:PUBLISH
BEGIN:VEVENT
UID:70721-20170110@over-pc.gov.uk
DTSTAMP:20260422T085245Z
DTSTART;VALUE=DATE:20170110
DTEND;VALUE=DATE:20170111
SUMMARY:January Meeting
DESCRIPTION:Full Council Meeting\nView details: https://over-pc.gov.uk/meetings/january-meeting/
URL:https://over-pc.gov.uk/meetings/january-meeting/
END:VEVENT
END:VCALENDAR
