BEGIN:VCALENDAR
VERSION:2.0
PRODID:-//Over Parish Council//Meeting Calendar//EN
CALSCALE:GREGORIAN
METHOD:PUBLISH
BEGIN:VEVENT
UID:70724-20170214@over-pc.gov.uk
DTSTAMP:20260422T085026Z
DTSTART;VALUE=DATE:20170214
DTEND;VALUE=DATE:20170215
SUMMARY:February Meeting
DESCRIPTION:Full Council Meeting\nView details: https://over-pc.gov.uk/meetings/february-meeting-2/
URL:https://over-pc.gov.uk/meetings/february-meeting-2/
END:VEVENT
END:VCALENDAR
