BEGIN:VCALENDAR
VERSION:2.0
PRODID:-//Over Parish Council//Meeting Calendar//EN
CALSCALE:GREGORIAN
METHOD:PUBLISH
BEGIN:VEVENT
UID:70727-20170314@over-pc.gov.uk
DTSTAMP:20260420T125649Z
DTSTART;VALUE=DATE:20170314
DTEND;VALUE=DATE:20170315
SUMMARY:March Meeting
DESCRIPTION:Full Council Meeting\nView details: https://over-pc.gov.uk/meetings/march-meeting-2/
URL:https://over-pc.gov.uk/meetings/march-meeting-2/
END:VEVENT
END:VCALENDAR
