BEGIN:VCALENDAR
VERSION:2.0
PRODID:-//Over Parish Council//Meeting Calendar//EN
CALSCALE:GREGORIAN
METHOD:PUBLISH
BEGIN:VEVENT
UID:70730-20170411@over-pc.gov.uk
DTSTAMP:20260420T130005Z
DTSTART;VALUE=DATE:20170411
DTEND;VALUE=DATE:20170412
SUMMARY:April Meeting
DESCRIPTION:Full Council Meeting\nView details: https://over-pc.gov.uk/meetings/april-meeting-2/
URL:https://over-pc.gov.uk/meetings/april-meeting-2/
END:VEVENT
END:VCALENDAR
