BEGIN:VCALENDAR
VERSION:2.0
PRODID:-//Over Parish Council//Meeting Calendar//EN
CALSCALE:GREGORIAN
METHOD:PUBLISH
BEGIN:VEVENT
UID:70733-20170509@over-pc.gov.uk
DTSTAMP:20260422T102141Z
DTSTART;VALUE=DATE:20170509
DTEND;VALUE=DATE:20170510
SUMMARY:May Meeting
DESCRIPTION:Full Council Meeting\nView details: https://over-pc.gov.uk/meetings/may-meeting-2/
URL:https://over-pc.gov.uk/meetings/may-meeting-2/
END:VEVENT
END:VCALENDAR
