BEGIN:VCALENDAR
VERSION:2.0
PRODID:-//Over Parish Council//Meeting Calendar//EN
CALSCALE:GREGORIAN
METHOD:PUBLISH
BEGIN:VEVENT
UID:70736-20170613@over-pc.gov.uk
DTSTAMP:20260422T102104Z
DTSTART;VALUE=DATE:20170613
DTEND;VALUE=DATE:20170614
SUMMARY:June Meeting
DESCRIPTION:Full Council Meeting\nView details: https://over-pc.gov.uk/meetings/june-meeting-2/
URL:https://over-pc.gov.uk/meetings/june-meeting-2/
END:VEVENT
END:VCALENDAR
